BEGIN:VCALENDAR
VERSION:2.0
CALSCALE:GREGORIAN
PRODID:-//Diputació de Barcelona//DibaCMS//EN
BEGIN:VEVENT
UID:15958
DTSTAMP:20260424T162115
DTSTART:20230224T120000
DTEND:20230224T120000
SUMMARY:Concentració amb motiu del primer aniversari de la guerra a Ucraïna
LOCATION:Av. de Pau Casals 9 08755 Castellbisbal
METHOD:PUBLISH
X-WR-CALNAME:comunicacio@castellbisbal.cat
X-WR-TIMEZONE:Europe/Madrid
DESCRIPTION:A les 12.00 hores, davant la seu de l'Ajuntament

URI:https://www.castellbisbal.cat/actualitat/agenda/concentracio-amb-motiu-del-primer-aniversari-de-la-guerra-a-ucraina.html
CLASS:PUBLIC
END:VEVENT
END:VCALENDAR
