BEGIN:VCALENDAR
VERSION:2.0
CALSCALE:GREGORIAN
PRODID:-//Diputació de Barcelona//DibaCMS//EN
BEGIN:VEVENT
UID:15960
DTSTAMP:20260424T194107
DTSTART:20230323T093000
DTEND:20230323T093000
SUMMARY:Cicle de passejades de gent gran: passejada per Castellbisbal
LOCATION:
METHOD:PUBLISH
X-WR-CALNAME:comunicacio@castellbisbal.cat
X-WR-TIMEZONE:Europe/Madrid
DESCRIPTION:Sortida des de l'avinguda Gaudí a les 9.30 h

URI:https://www.castellbisbal.cat/actualitat/agenda/cicle-de-passejades-de-gent-gran-passejada-per-castellbisbal.html
CLASS:PUBLIC
END:VEVENT
END:VCALENDAR
