BEGIN:VCALENDAR
VERSION:2.0
CALSCALE:GREGORIAN
PRODID:-//Diputació de Barcelona//DibaCMS//EN
BEGIN:VEVENT
UID:15962
DTSTAMP:20260424T010203
DTSTART:20230303T173000
DTEND:20230303T173000
SUMMARY:Día de Andalucía. Ofrenda floral
LOCATION:Països Catalans, 30 08755 Castellbisbal
METHOD:PUBLISH
X-WR-CALNAME:comunicacio@castellbisbal.cat
X-WR-TIMEZONE:Europe/Madrid
DESCRIPTION:A les 17.30 h, al parc de les Destreses

URI:https://www.castellbisbal.cat/actualitat/agenda/dia-de-andalucia-ofrenda-floral.html
CLASS:PUBLIC
END:VEVENT
END:VCALENDAR
