BEGIN:VCALENDAR
VERSION:2.0
CALSCALE:GREGORIAN
PRODID:-//Diputació de Barcelona//DibaCMS//EN
BEGIN:VEVENT
UID:15963
DTSTAMP:20260423T195153
DTSTART:20230304T093000
DTEND:20230304T093000
SUMMARY:Celebració del Día de Andalucía
LOCATION:Av. de Pau Casals 7 08755 Castellbisbal
METHOD:PUBLISH
X-WR-CALNAME:comunicacio@castellbisbal.cat
X-WR-TIMEZONE:Europe/Madrid
DESCRIPTION:A les 9.30 h, al Casal Cultural i Recreatiu

URI:https://www.castellbisbal.cat/actualitat/agenda/celebracio-del-dia-de-andalucia.html
CLASS:PUBLIC
END:VEVENT
END:VCALENDAR
