BEGIN:VCALENDAR
VERSION:2.0
CALSCALE:GREGORIAN
PRODID:-//Diputació de Barcelona//DibaCMS//EN
BEGIN:VEVENT
UID:15964
DTSTAMP:20260424T193740
DTSTART:20230324T000000
DTEND:20230416T000000
SUMMARY:Exposició "Magma, la doble cara"
LOCATION:Av. de Pau Casals, 16 08755 Castellbisbal
METHOD:PUBLISH
X-WR-CALNAME:comunicacio@castellbisbal.cat
X-WR-TIMEZONE:Europe/Madrid
DESCRIPTION:Del 24 de març fins al 16 d'abril, a la sala d'exposició d'Els Costals

URI:https://www.castellbisbal.cat/actualitat/agenda/exposicio-magma-la-doble-cara.html
CLASS:PUBLIC
END:VEVENT
END:VCALENDAR
