BEGIN:VCALENDAR
VERSION:2.0
CALSCALE:GREGORIAN
PRODID:-//Diputació de Barcelona//DibaCMS//EN
BEGIN:VEVENT
UID:15966
DTSTAMP:20260424T050415
DTSTART:20230501T000000
DTEND:20230531T000000
SUMMARY:Exposició "Illes Fèroe i Fotografia impressionista"
LOCATION:Av. de Pau Casals, 16 08755 Castellbisbal
METHOD:PUBLISH
X-WR-CALNAME:comunicacio@castellbisbal.cat
X-WR-TIMEZONE:Europe/Madrid
DESCRIPTION:De l'1 al 31 de maig a l'auditori, els dies que hi hagi activitat

URI:https://www.castellbisbal.cat/actualitat/agenda/exposicio-illes-feroe-i-fotografia-impressionista.html
CLASS:PUBLIC
END:VEVENT
END:VCALENDAR
