BEGIN:VCALENDAR
VERSION:2.0
CALSCALE:GREGORIAN
PRODID:-//Diputació de Barcelona//DibaCMS//EN
BEGIN:VEVENT
UID:15972
DTSTAMP:20260424T095850
DTSTART:20230318T110000
DTEND:20230318T110000
SUMMARY:Conte en anglès: "The far west"
LOCATION:Av. de Pau Casals, 16 08755 Castellbisbal
METHOD:PUBLISH
X-WR-CALNAME:comunicacio@castellbisbal.cat
X-WR-TIMEZONE:Europe/Madrid
DESCRIPTION:A les 11.00 h, a la Biblioteca

URI:https://www.castellbisbal.cat/actualitat/agenda/biblioteca/conte-en-angles-the-far-west.html
CLASS:PUBLIC
END:VEVENT
END:VCALENDAR
