BEGIN:VCALENDAR
VERSION:2.0
CALSCALE:GREGORIAN
PRODID:-//Diputació de Barcelona//DibaCMS//EN
BEGIN:VEVENT
UID:15988
DTSTAMP:20260424T071827
DTSTART:20230305T090000
DTEND:20230305T090000
SUMMARY:Mercat de Pagès 
LOCATION:08755 Castellbisbal
METHOD:PUBLISH
X-WR-CALNAME:comunicacio@castellbisbal.cat
X-WR-TIMEZONE:Europe/Madrid
DESCRIPTION:Durant tot el matí, a la plaça de l'Església

URI:https://www.castellbisbal.cat/actualitat/agenda/mercat-de-pages-.html
CLASS:PUBLIC
END:VEVENT
END:VCALENDAR
