BEGIN:VCALENDAR
VERSION:2.0
CALSCALE:GREGORIAN
PRODID:-//Diputació de Barcelona//DibaCMS//EN
BEGIN:VEVENT
UID:15990
DTSTAMP:20260425T021917
DTSTART:20230330T170000
DTEND:20230330T170000
SUMMARY:L'hora del cafè: "Adéu bolquer!"
LOCATION:C. Bellavista 47-49 08755 Castellbisbal
METHOD:PUBLISH
X-WR-CALNAME:comunicacio@castellbisbal.cat
X-WR-TIMEZONE:Europe/Madrid
DESCRIPTION:A les 17.00 hores, a l'Escola Bressol La Caseta

URI:https://www.castellbisbal.cat/actualitat/agenda/lhora-del-cafe-adeu-bolquer.html
CLASS:PUBLIC
END:VEVENT
END:VCALENDAR
