BEGIN:VCALENDAR
VERSION:2.0
CALSCALE:GREGORIAN
PRODID:-//Diputació de Barcelona//DibaCMS//EN
BEGIN:VEVENT
UID:15991
DTSTAMP:20260423T214123
DTSTART:20230306T000000
DTEND:20230417T235900
SUMMARY:Cinquè concurs de relats de ciencia ficció, terror i fantasia
LOCATION:
METHOD:PUBLISH
X-WR-CALNAME:comunicacio@castellbisbal.cat
X-WR-TIMEZONE:Europe/Madrid
DESCRIPTION:Fins al 17 d'abril

URI:https://www.castellbisbal.cat/actualitat/agenda/cinque-concurs-de-relats-de-ciencia-ficcio-terror-i-fantasia.html
CLASS:PUBLIC
END:VEVENT
END:VCALENDAR
