BEGIN:VCALENDAR
VERSION:2.0
CALSCALE:GREGORIAN
PRODID:-//Diputació de Barcelona//DibaCMS//EN
BEGIN:VEVENT
UID:16002
DTSTAMP:20260424T133546
DTSTART:20230330T170000
DTEND:20230330T170000
SUMMARY:Exposició: "Un món de gèneres"
LOCATION:Carrer Francesc Macià, 64 08755 Castellbisbal
METHOD:PUBLISH
X-WR-CALNAME:comunicacio@castellbisbal.cat
X-WR-TIMEZONE:Europe/Madrid
DESCRIPTION:De 17.00 a 20.00 h, al PIJ

URI:https://www.castellbisbal.cat/actualitat/agenda/exposicio-un-mon-de-generes.html
CLASS:PUBLIC
END:VEVENT
END:VCALENDAR
