BEGIN:VCALENDAR
VERSION:2.0
CALSCALE:GREGORIAN
PRODID:-//Diputació de Barcelona//DibaCMS//EN
BEGIN:VEVENT
UID:16004
DTSTAMP:20260424T065445
DTSTART:20230316T190000
DTEND:20230316T190000
SUMMARY:Segona trobada de la comissió jove
LOCATION:Carrer Francesc Macià, 64 08755 Castellbisbal
METHOD:PUBLISH
X-WR-CALNAME:comunicacio@castellbisbal.cat
X-WR-TIMEZONE:Europe/Madrid
DESCRIPTION:A les 19.00 h, a l'Espai Jove del PIJ

URI:https://www.castellbisbal.cat/actualitat/agenda/segona-trobada-de-la-comissio-jove.html
CLASS:PUBLIC
END:VEVENT
END:VCALENDAR
