BEGIN:VCALENDAR
VERSION:2.0
CALSCALE:GREGORIAN
PRODID:-//Diputació de Barcelona//DibaCMS//EN
BEGIN:VEVENT
UID:16005
DTSTAMP:20260424T100533
DTSTART:20230416T101500
DTEND:20230416T101500
SUMMARY:XXIII Campionat Escolar de Cros de Castellbisbal
LOCATION:Circuit del Serral de la Verdolaga 08755 Castellbisbal
METHOD:PUBLISH
X-WR-CALNAME:comunicacio@castellbisbal.cat
X-WR-TIMEZONE:Europe/Madrid
DESCRIPTION:A partir de les 10.15 h i durant tot el matí, al circuit del Serral de la Verdolaga

URI:https://www.castellbisbal.cat/actualitat/agenda/xxiii-campionat-escolar-de-cros-de-castellbisbal.html
CLASS:PUBLIC
END:VEVENT
END:VCALENDAR
