BEGIN:VCALENDAR
VERSION:2.0
CALSCALE:GREGORIAN
PRODID:-//Diputació de Barcelona//DibaCMS//EN
BEGIN:VEVENT
UID:16006
DTSTAMP:20260424T065242
DTSTART:20230317T163000
DTEND:20230317T163000
SUMMARY:Xocolatada solidària per a la recerca del càncer infantil
LOCATION:Av. de Pau Casals, 20 08755 Castellbisbal
METHOD:PUBLISH
X-WR-CALNAME:comunicacio@castellbisbal.cat
X-WR-TIMEZONE:Europe/Madrid
DESCRIPTION:A les 16.30 h, a l'escola Mare de Déu de Montserrat

URI:https://www.castellbisbal.cat/actualitat/agenda/xocolatada-solidaria-per-a-la-recerca-del-cancer-infantil.html
CLASS:PUBLIC
END:VEVENT
END:VCALENDAR
