BEGIN:VCALENDAR
VERSION:2.0
CALSCALE:GREGORIAN
PRODID:-//Diputació de Barcelona//DibaCMS//EN
BEGIN:VEVENT
UID:16019
DTSTAMP:20260424T162322
DTSTART:20230310T000000
DTEND:20230630T000000
SUMMARY:Exposició "Dones d'ofici"
LOCATION:Carrer Pi i Margall, 13 08755 Castellbisbal
METHOD:PUBLISH
X-WR-CALNAME:comunicacio@castellbisbal.cat
X-WR-TIMEZONE:Europe/Madrid
DESCRIPTION:Del 10 de març fins al 30 de juny a la Finesta Indiscreta del museu, durant el seu horari d'obertura

URI:https://www.castellbisbal.cat/actualitat/agenda/exposicio-dones-dofici.html
CLASS:PUBLIC
END:VEVENT
END:VCALENDAR
