BEGIN:VCALENDAR
VERSION:2.0
CALSCALE:GREGORIAN
PRODID:-//Diputació de Barcelona//DibaCMS//EN
BEGIN:VEVENT
UID:16020
DTSTAMP:20260424T131212
DTSTART:20230413T130000
DTEND:20230413T130000
SUMMARY:Curs: Què pot deduir-se un/a autònom/a en els impostos del seu negoci?
LOCATION:Av. de Pau Casals, 9 08755 Castellbisbal
METHOD:PUBLISH
X-WR-CALNAME:comunicacio@castellbisbal.cat
X-WR-TIMEZONE:Europe/Madrid
DESCRIPTION:De 13.00 a 16.00 h, a la sala de plens de l'Ajuntament

URI:https://www.castellbisbal.cat/actualitat/agenda/curs-que-pot-deduir-se-una-autonoma-en-els-impostos-del-seu-negoci.html
CLASS:PUBLIC
END:VEVENT
END:VCALENDAR
