BEGIN:VCALENDAR
VERSION:2.0
CALSCALE:GREGORIAN
PRODID:-//Diputació de Barcelona//DibaCMS//EN
BEGIN:VEVENT
UID:16034
DTSTAMP:20260424T171052
DTSTART:20230326T100000
DTEND:20230326T100000
SUMMARY:Trial 4X4
LOCATION:Circuit del Serral de la Verdolaga 08755 Castellbisbal
METHOD:PUBLISH
X-WR-CALNAME:comunicacio@castellbisbal.cat
X-WR-TIMEZONE:Europe/Madrid
DESCRIPTION:De 10.00 a 14.00 h, al circuit de la Verdolaga

URI:https://www.castellbisbal.cat/actualitat/agenda/trial-4x4.html
CLASS:PUBLIC
END:VEVENT
END:VCALENDAR
