BEGIN:VCALENDAR
VERSION:2.0
CALSCALE:GREGORIAN
PRODID:-//Diputació de Barcelona//DibaCMS//EN
BEGIN:VEVENT
UID:16036
DTSTAMP:20260424T131407
DTSTART:20230325T123000
DTEND:20230325T123000
SUMMARY:Semifinals d'hoquei en línia aleví. Campionat de Catalunya
LOCATION:C. Agricultura, s/n 08755 Castellbisbal
METHOD:PUBLISH
X-WR-CALNAME:comunicacio@castellbisbal.cat
X-WR-TIMEZONE:Europe/Madrid
DESCRIPTION:A partir de les 12.30 h, a l'Illa Esportiva

URI:https://www.castellbisbal.cat/actualitat/agenda/semifinals-dhoquei-en-linia-alevi-campionat-de-catalunya.html
CLASS:PUBLIC
END:VEVENT
END:VCALENDAR
