BEGIN:VCALENDAR
VERSION:2.0
CALSCALE:GREGORIAN
PRODID:-//Diputació de Barcelona//DibaCMS//EN
BEGIN:VEVENT
UID:16038
DTSTAMP:20260424T151441
DTSTART:20230319T100000
DTEND:20230319T100000
SUMMARY:Finals d'hoquei línia infantil. Campionat de Catalunya
LOCATION:C. Agricultura, s/n 08755 Castellbisbal
METHOD:PUBLISH
X-WR-CALNAME:comunicacio@castellbisbal.cat
X-WR-TIMEZONE:Europe/Madrid
DESCRIPTION:A partir de les 10.00 h i durant tot el matí, a l'Illa Esportiva

URI:https://www.castellbisbal.cat/actualitat/agenda/finals-dhoquei-linia-infantil-campionat-de-catalunya.html
CLASS:PUBLIC
END:VEVENT
END:VCALENDAR
