BEGIN:VCALENDAR
VERSION:2.0
CALSCALE:GREGORIAN
PRODID:-//Diputació de Barcelona//DibaCMS//EN
BEGIN:VEVENT
UID:16039
DTSTAMP:20260425T030807
DTSTART:20230326T100000
DTEND:20230326T100000
SUMMARY:Xerinhola! La festa de la participació
LOCATION:Parc de l'Ermita 08755 Castellbisbal
METHOD:PUBLISH
X-WR-CALNAME:comunicacio@castellbisbal.cat
X-WR-TIMEZONE:Europe/Madrid
DESCRIPTION:De 10.00 a 13.00 h, al Parc de l'Ermita

URI:https://www.castellbisbal.cat/actualitat/agenda/xerinhola-la-festa-de-la-participacio.html
CLASS:PUBLIC
END:VEVENT
END:VCALENDAR
