BEGIN:VCALENDAR
VERSION:2.0
CALSCALE:GREGORIAN
PRODID:-//Diputació de Barcelona//DibaCMS//EN
BEGIN:VEVENT
UID:16042
DTSTAMP:20260424T144818
DTSTART:20230417T103000
DTEND:20230417T103000
SUMMARY:Xerrada sobre consells de seguretat per a la gent gran
LOCATION:Sant Joan núm. 1 08755 Castellbisbal
METHOD:PUBLISH
X-WR-CALNAME:comunicacio@castellbisbal.cat
X-WR-TIMEZONE:Europe/Madrid
DESCRIPTION:A les 10.30 h, a l'Espai de la Plaça

URI:https://www.castellbisbal.cat/actualitat/agenda/xerrada-sobre-consells-de-seguretat-per-a-la-gent-gran.html
CLASS:PUBLIC
END:VEVENT
END:VCALENDAR
