BEGIN:VCALENDAR
VERSION:2.0
CALSCALE:GREGORIAN
PRODID:-//Diputació de Barcelona//DibaCMS//EN
BEGIN:VEVENT
UID:16043
DTSTAMP:20260424T192046
DTSTART:20230427T180000
DTEND:20230427T180000
SUMMARY:Xerrada "Com ajudar als nostres infants i adolescents a regular les emocions"
LOCATION:Av. Pau Casals, 12 08755 Castellbisbal
METHOD:PUBLISH
X-WR-CALNAME:comunicacio@castellbisbal.cat
X-WR-TIMEZONE:Europe/Madrid
DESCRIPTION:De 18.00 a 19.30 h, al CAP Doctor Joan Planas

URI:https://www.castellbisbal.cat/actualitat/agenda/xerrada-com-ajudar-als-nostres-infants-i-adolescents-a-regular-les-emocions.html
CLASS:PUBLIC
END:VEVENT
END:VCALENDAR
