BEGIN:VCALENDAR
VERSION:2.0
CALSCALE:GREGORIAN
PRODID:-//Diputació de Barcelona//DibaCMS//EN
BEGIN:VEVENT
UID:16049
DTSTAMP:20260424T165307
DTSTART:20230414T083000
DTEND:20230414T083000
SUMMARY:Jornada Dia Mundial de la Salut "Cuidem als qui cuiden"
LOCATION:Av. de Pau Casals, 9 08755 Castellbisbal
METHOD:PUBLISH
X-WR-CALNAME:comunicacio@castellbisbal.cat
X-WR-TIMEZONE:Europe/Madrid
DESCRIPTION:De 8.30 a 14.00 h, a la sala d'actes de l'Ajuntament

URI:https://www.castellbisbal.cat/actualitat/agenda/jornada-dia-mundial-de-la-salut-cuidem-als-qui-cuiden.html
CLASS:PUBLIC
END:VEVENT
END:VCALENDAR
