BEGIN:VCALENDAR
VERSION:2.0
CALSCALE:GREGORIAN
PRODID:-//Diputació de Barcelona//DibaCMS//EN
BEGIN:VEVENT
UID:16061
DTSTAMP:20260424T065917
DTSTART:20230329T163000
DTEND:20230329T163000
SUMMARY:Fira d'entitats
LOCATION:C. dels Països Catalans, 42 08755 Castellbisbal
METHOD:PUBLISH
X-WR-CALNAME:comunicacio@castellbisbal.cat
X-WR-TIMEZONE:Europe/Madrid
DESCRIPTION:De 16.30 a 18.00 h, a l'escola Els Arenys

URI:https://www.castellbisbal.cat/actualitat/agenda/fira-dentitats.html
CLASS:PUBLIC
END:VEVENT
END:VCALENDAR
