BEGIN:VCALENDAR
VERSION:2.0
CALSCALE:GREGORIAN
PRODID:-//Diputació de Barcelona//DibaCMS//EN
BEGIN:VEVENT
UID:16063
DTSTAMP:20260425T014928
DTSTART:20230416T090000
DTEND:20230416T090000
SUMMARY:Cantada de Caramelles
LOCATION:
METHOD:PUBLISH
X-WR-CALNAME:comunicacio@castellbisbal.cat
X-WR-TIMEZONE:Europe/Madrid
DESCRIPTION:Pels carrers del nucli urbà, de 9.00 a 14.00 hores

URI:https://www.castellbisbal.cat/actualitat/agenda/16063-cantada-de-caramelles.html
CLASS:PUBLIC
END:VEVENT
END:VCALENDAR
