BEGIN:VCALENDAR
VERSION:2.0
CALSCALE:GREGORIAN
PRODID:-//Diputació de Barcelona//DibaCMS//EN
BEGIN:VEVENT
UID:16064
DTSTAMP:20260424T040347
DTSTART:20230420T170000
DTEND:20230420T170000
SUMMARY:L'hora del cafè: "Les mossegades a l'escola bressol"
LOCATION:C. Bellavista 47-49 08755 Castellbisbal
METHOD:PUBLISH
X-WR-CALNAME:comunicacio@castellbisbal.cat
X-WR-TIMEZONE:Europe/Madrid
DESCRIPTION:De 17.00 a 18.00 h, a l'EBM La Caseta

URI:https://www.castellbisbal.cat/actualitat/agenda/lhora-del-cafe-les-mossegades-a-lescola-bressol.html
CLASS:PUBLIC
END:VEVENT
END:VCALENDAR
