BEGIN:VCALENDAR
VERSION:2.0
CALSCALE:GREGORIAN
PRODID:-//Diputació de Barcelona//DibaCMS//EN
BEGIN:VEVENT
UID:16065
DTSTAMP:20260424T071220
DTSTART:20230411T000000
DTEND:20230414T000000
SUMMARY:Curs Excel per a la Logística
LOCATION:Av. de Pau Casals, 16 08755 Castellbisbal
METHOD:PUBLISH
X-WR-CALNAME:comunicacio@castellbisbal.cat
X-WR-TIMEZONE:Europe/Madrid
DESCRIPTION:De l'11 al 14 d'abril, a la sala multimèdia d'Els Costals

URI:https://www.castellbisbal.cat/actualitat/agenda/curs-excel-per-a-la-logistica.html
CLASS:PUBLIC
END:VEVENT
END:VCALENDAR
