BEGIN:VCALENDAR
VERSION:2.0
CALSCALE:GREGORIAN
PRODID:-//Diputació de Barcelona//DibaCMS//EN
BEGIN:VEVENT
UID:16066
DTSTAMP:20260425T053800
DTSTART:20230503T180000
DTEND:20230503T180000
SUMMARY:Voleu saber com estalviar energia?
LOCATION:Avinguda de Pau Casals, 9 08755 Castellbisbal
METHOD:PUBLISH
X-WR-CALNAME:comunicacio@castellbisbal.cat
X-WR-TIMEZONE:Europe/Madrid
DESCRIPTION:A les 18.00 h, a la sala de plens de l'Ajuntament

URI:https://www.castellbisbal.cat/actualitat/agenda/voleu-saber-com-estalviar-energia.html
CLASS:PUBLIC
END:VEVENT
END:VCALENDAR
