BEGIN:VCALENDAR
VERSION:2.0
CALSCALE:GREGORIAN
PRODID:-//Diputació de Barcelona//DibaCMS//EN
BEGIN:VEVENT
UID:16068
DTSTAMP:20260424T223335
DTSTART:20230419T183000
DTEND:20230419T183000
SUMMARY:Espectacle poèticomusical: "Palabras de Miguel"
LOCATION:Av. de Pau Casals, 16 08755 Castellbisbal
METHOD:PUBLISH
X-WR-CALNAME:comunicacio@castellbisbal.cat
X-WR-TIMEZONE:Europe/Madrid
DESCRIPTION:A les 18.30 h, a l'espai Montserrat Roig d'Els Costals

URI:https://www.castellbisbal.cat/actualitat/agenda/biblioteca/16068-espectacle-poeticomusical-palabras-de-miguel.html
CLASS:PUBLIC
END:VEVENT
END:VCALENDAR
