BEGIN:VCALENDAR
VERSION:2.0
CALSCALE:GREGORIAN
PRODID:-//Diputació de Barcelona//DibaCMS//EN
BEGIN:VEVENT
UID:16069
DTSTAMP:20260424T225625
DTSTART:20230420T170000
DTEND:20230420T170000
SUMMARY:Concert de conjunts avançats
LOCATION:Plaça de l'Esglèsia, 2 08755 Castellbisbal
METHOD:PUBLISH
X-WR-CALNAME:comunicacio@castellbisbal.cat
X-WR-TIMEZONE:Europe/Madrid
DESCRIPTION:De 17.00 a 20.00 h, al Pati de l'Esbarjo

URI:https://www.castellbisbal.cat/actualitat/agenda/16069-concert-de-conjunts-avancats.html
CLASS:PUBLIC
END:VEVENT
END:VCALENDAR
