BEGIN:VCALENDAR
VERSION:2.0
CALSCALE:GREGORIAN
PRODID:-//Diputació de Barcelona//DibaCMS//EN
BEGIN:VEVENT
UID:16070
DTSTAMP:20260424T141308
DTSTART:20230421T093000
DTEND:20230421T093000
SUMMARY:Jocs florals a l'Escola Els Arenys
LOCATION:C. dels Països Catalans, 42 08755 Castellbisbal
METHOD:PUBLISH
X-WR-CALNAME:comunicacio@castellbisbal.cat
X-WR-TIMEZONE:Europe/Madrid
DESCRIPTION:A partir de les 9.30 h, a l'escola Els Arenys

URI:https://www.castellbisbal.cat/actualitat/agenda/jocs-florals-a-lescola-els-arenys.html
CLASS:PUBLIC
END:VEVENT
END:VCALENDAR
