BEGIN:VCALENDAR
VERSION:2.0
CALSCALE:GREGORIAN
PRODID:-//Diputació de Barcelona//DibaCMS//EN
BEGIN:VEVENT
UID:16073
DTSTAMP:20260425T044901
DTSTART:20230423T100000
DTEND:20230423T100000
SUMMARY:Tallers familiars
LOCATION:Carrer Pi i Margall, 13 08755 Castellbisbal
METHOD:PUBLISH
X-WR-CALNAME:comunicacio@castellbisbal.cat
X-WR-TIMEZONE:Europe/Madrid
DESCRIPTION:Durant tot el dia, al Museu de la Pagesia

URI:https://www.castellbisbal.cat/actualitat/agenda/16073-tallers-familiars.html
CLASS:PUBLIC
END:VEVENT
END:VCALENDAR
