BEGIN:VCALENDAR
VERSION:2.0
CALSCALE:GREGORIAN
PRODID:-//Diputació de Barcelona//DibaCMS//EN
BEGIN:VEVENT
UID:16074
DTSTAMP:20260424T205851
DTSTART:20230423T100000
DTEND:20230423T100000
SUMMARY:Vine i digues la teva!
LOCATION:Carrer Pi i Margall, 13 08755 Castellbisbal
METHOD:PUBLISH
X-WR-CALNAME:comunicacio@castellbisbal.cat
X-WR-TIMEZONE:Europe/Madrid
DESCRIPTION:Durant tot el dia davant del Museu de la Pagesia

URI:https://www.castellbisbal.cat/actualitat/agenda/vine-i-digues-la-teva.html
CLASS:PUBLIC
END:VEVENT
END:VCALENDAR
