BEGIN:VCALENDAR
VERSION:2.0
CALSCALE:GREGORIAN
PRODID:-//Diputació de Barcelona//DibaCMS//EN
BEGIN:VEVENT
UID:16075
DTSTAMP:20260424T160445
DTSTART:20230423T100000
DTEND:20230423T100000
SUMMARY:Activitat familiar. El llibre gegant del drac de Castellbisbal
LOCATION:08755 Castellbisbal
METHOD:PUBLISH
X-WR-CALNAME:comunicacio@castellbisbal.cat
X-WR-TIMEZONE:Europe/Madrid
DESCRIPTION:De 10.00 a 13.00 h, a la Plaça de l'Església

URI:https://www.castellbisbal.cat/actualitat/agenda/activitat-familiar-el-llibre-gegant-del-drac-de-castellbisbal.html
CLASS:PUBLIC
END:VEVENT
END:VCALENDAR
