BEGIN:VCALENDAR
VERSION:2.0
CALSCALE:GREGORIAN
PRODID:-//Diputació de Barcelona//DibaCMS//EN
BEGIN:VEVENT
UID:16077
DTSTAMP:20260424T141847
DTSTART:20230423T110000
DTEND:20230423T110000
SUMMARY:L'Aneguet lleig de la companyia La Puntual
LOCATION:Sant Joan núm. 1 08755 Castellbisbal
METHOD:PUBLISH
X-WR-CALNAME:comunicacio@castellbisbal.cat
X-WR-TIMEZONE:Europe/Madrid
DESCRIPTION:Dues sessions: 11.00 i 12.00 h, a l'Espai de la Plaça

URI:https://www.castellbisbal.cat/actualitat/agenda/laneguet-lleig-de-la-companyia-la-puntual.html
CLASS:PUBLIC
END:VEVENT
END:VCALENDAR
