BEGIN:VCALENDAR
VERSION:2.0
CALSCALE:GREGORIAN
PRODID:-//Diputació de Barcelona//DibaCMS//EN
BEGIN:VEVENT
UID:16078
DTSTAMP:20260425T023009
DTSTART:20230423T120000
DTEND:20230423T120000
SUMMARY:Havaneres
LOCATION:Plaça de l'Església 08755 Castellbisbal
METHOD:PUBLISH
X-WR-CALNAME:comunicacio@castellbisbal.cat
X-WR-TIMEZONE:Europe/Madrid
DESCRIPTION:A les 12.00 h, al Pati de l'Esbarjo

URI:https://www.castellbisbal.cat/actualitat/agenda/16078-havaneres.html
CLASS:PUBLIC
END:VEVENT
END:VCALENDAR
