BEGIN:VCALENDAR
VERSION:2.0
CALSCALE:GREGORIAN
PRODID:-//Diputació de Barcelona//DibaCMS//EN
BEGIN:VEVENT
UID:16082
DTSTAMP:20260424T225554
DTSTART:20230413T081500
DTEND:20230413T081500
SUMMARY:Cicle de passejades de gent gran: Subirats
LOCATION:Sant Joan núm. 1 08755 Castellbisbal
METHOD:PUBLISH
X-WR-CALNAME:comunicacio@castellbisbal.cat
X-WR-TIMEZONE:Europe/Madrid
DESCRIPTION:Sortida a les 8.15 h, av. Gaudí

URI:https://www.castellbisbal.cat/actualitat/agenda/cicle-de-passejades-de-gent-gran-subirats.html
CLASS:PUBLIC
END:VEVENT
END:VCALENDAR
