BEGIN:VCALENDAR
VERSION:2.0
CALSCALE:GREGORIAN
PRODID:-//Diputació de Barcelona//DibaCMS//EN
BEGIN:VEVENT
UID:16092
DTSTAMP:20260420T023446
DTSTART:20230519T164500
DTEND:20230519T164500
SUMMARY:Dia Internacional dels Museus
LOCATION:Carrer Pi i Margall, 13 08755 Castellbisbal
METHOD:PUBLISH
X-WR-CALNAME:comunicacio@castellbisbal.cat
X-WR-TIMEZONE:Europe/Madrid
DESCRIPTION:De 16.45 a 20.00 h, al Museu de la Pagesia

URI:https://www.castellbisbal.cat/actualitat/agenda/16092-dia-internacional-dels-museus.html
CLASS:PUBLIC
END:VEVENT
END:VCALENDAR
