BEGIN:VCALENDAR
VERSION:2.0
CALSCALE:GREGORIAN
PRODID:-//Diputació de Barcelona//DibaCMS//EN
BEGIN:VEVENT
UID:16097
DTSTAMP:20260424T192527
DTSTART:20230708T183000
DTEND:20230708T183000
SUMMARY:15è Aplec de sardanes
LOCATION:08755 Castellbisbal
METHOD:PUBLISH
X-WR-CALNAME:comunicacio@castellbisbal.cat
X-WR-TIMEZONE:Europe/Madrid
DESCRIPTION:De 18:30 a 22:45 h, a la plaça de l'Església

URI:https://www.castellbisbal.cat/actualitat/agenda/15e-aplec-de-sardanes.html
CLASS:PUBLIC
END:VEVENT
END:VCALENDAR
