BEGIN:VCALENDAR
VERSION:2.0
CALSCALE:GREGORIAN
PRODID:-//Diputació de Barcelona//DibaCMS//EN
BEGIN:VEVENT
UID:16098
DTSTAMP:20260424T212227
DTSTART:20230707T220000
DTEND:20230707T220000
SUMMARY:Capsa de Música. Jazz per a tots els públics amb Men in Swing
LOCATION:08755 Castellbisbal
METHOD:PUBLISH
X-WR-CALNAME:comunicacio@castellbisbal.cat
X-WR-TIMEZONE:Europe/Madrid
DESCRIPTION:A les 22.00 h, al jardins de Can Margarit

URI:https://www.castellbisbal.cat/actualitat/agenda/capsa-de-musica-jazz-per-a-tots-els-publics-amb-men-in-swing.html
CLASS:PUBLIC
END:VEVENT
END:VCALENDAR
