BEGIN:VCALENDAR
VERSION:2.0
CALSCALE:GREGORIAN
PRODID:-//Diputació de Barcelona//DibaCMS//EN
BEGIN:VEVENT
UID:16099
DTSTAMP:20260425T010117
DTSTART:20230714T220000
DTEND:20230714T220000
SUMMARY:Capsa de música. Concert teatralitzat amb Moments
LOCATION:
METHOD:PUBLISH
X-WR-CALNAME:comunicacio@castellbisbal.cat
X-WR-TIMEZONE:Europe/Madrid
DESCRIPTION:A les 22.00 h, als jardins de Can Margarit

URI:https://www.castellbisbal.cat/actualitat/agenda/capsa-de-musica-concert-teatralitzat-amb-moments.html
CLASS:PUBLIC
END:VEVENT
END:VCALENDAR
