BEGIN:VCALENDAR
VERSION:2.0
CALSCALE:GREGORIAN
PRODID:-//Diputació de Barcelona//DibaCMS//EN
BEGIN:VEVENT
UID:16103
DTSTAMP:20260424T071800
DTSTART:20230406T180000
DTEND:20230406T180000
SUMMARY:Jocs de taula
LOCATION:Carrer Francesc Macià, 64 08755 Castellbisbal
METHOD:PUBLISH
X-WR-CALNAME:comunicacio@castellbisbal.cat
X-WR-TIMEZONE:Europe/Madrid
DESCRIPTION:De 18.00 a 20.30 h, al PIJ

URI:https://www.castellbisbal.cat/actualitat/agenda/jocs-de-taula.html
CLASS:PUBLIC
END:VEVENT
END:VCALENDAR
