BEGIN:VCALENDAR
VERSION:2.0
CALSCALE:GREGORIAN
PRODID:-//Diputació de Barcelona//DibaCMS//EN
BEGIN:VEVENT
UID:16104
DTSTAMP:20260424T004703
DTSTART:20230413T180000
DTEND:20230413T180000
SUMMARY:Tarda de futbol
LOCATION:C. Agricultura, s/n 08755 Castellbisbal
METHOD:PUBLISH
X-WR-CALNAME:comunicacio@castellbisbal.cat
X-WR-TIMEZONE:Europe/Madrid
DESCRIPTION:De 18.00 a 20.30 h, a l'Illa Esportiva

URI:https://www.castellbisbal.cat/actualitat/agenda/16104-tarda-de-futbol.html
CLASS:PUBLIC
END:VEVENT
END:VCALENDAR
