BEGIN:VCALENDAR
VERSION:2.0
CALSCALE:GREGORIAN
PRODID:-//Diputació de Barcelona//DibaCMS//EN
BEGIN:VEVENT
UID:16107
DTSTAMP:20260424T141159
DTSTART:20230421T180000
DTEND:20230421T180000
SUMMARY:Taller de Sant Jordi
LOCATION:Carrer Francesc Macià, 64 08755 Castellbisbal
METHOD:PUBLISH
X-WR-CALNAME:comunicacio@castellbisbal.cat
X-WR-TIMEZONE:Europe/Madrid
DESCRIPTION:De 18.00 a 20.30 h, al PIJ

URI:https://www.castellbisbal.cat/actualitat/agenda/16107-taller-de-sant-jordi.html
CLASS:PUBLIC
END:VEVENT
END:VCALENDAR
