BEGIN:VCALENDAR
VERSION:2.0
CALSCALE:GREGORIAN
PRODID:-//Diputació de Barcelona//DibaCMS//EN
BEGIN:VEVENT
UID:16123
DTSTAMP:20260424T021539
DTSTART:20230415T100000
DTEND:20230415T100000
SUMMARY:Semifinals i finals d'hoquei en línia sub 18 femení. Campionat de Catalunya
LOCATION:C. Agricultura, s/n 08755 Castellbisbal
METHOD:PUBLISH
X-WR-CALNAME:comunicacio@castellbisbal.cat
X-WR-TIMEZONE:Europe/Madrid
DESCRIPTION:A partir de les 10.00 h, a l'Illa Esportiva

URI:https://www.castellbisbal.cat/actualitat/agenda/semifinals-i-finals-dhoquei-en-linia-sub-18-femeni-campionat-de-catalunya.html
CLASS:PUBLIC
END:VEVENT
END:VCALENDAR
