BEGIN:VCALENDAR
VERSION:2.0
CALSCALE:GREGORIAN
PRODID:-//Diputació de Barcelona//DibaCMS//EN
BEGIN:VEVENT
UID:16133
DTSTAMP:20260424T141211
DTSTART:20230422T120000
DTEND:20230422T120000
SUMMARY:Ixent. 2a mostra de creació cultural
LOCATION:Av. de Pau Casals, 16 08755 Castellbisbal
METHOD:PUBLISH
X-WR-CALNAME:comunicacio@castellbisbal.cat
X-WR-TIMEZONE:Europe/Madrid
DESCRIPTION:A partir de les 12.00 h, al Centre Cultural Els Costals

URI:https://www.castellbisbal.cat/actualitat/agenda/ixent-2a-mostra-de-creacio-cultural.html
CLASS:PUBLIC
END:VEVENT
END:VCALENDAR
