BEGIN:VCALENDAR
VERSION:2.0
CALSCALE:GREGORIAN
PRODID:-//Diputació de Barcelona//DibaCMS//EN
BEGIN:VEVENT
UID:16142
DTSTAMP:20260424T203750
DTSTART:20230428T200000
DTEND:20230428T200000
SUMMARY:Feria de Abril
LOCATION:08755 Castellbisbal
METHOD:PUBLISH
X-WR-CALNAME:comunicacio@castellbisbal.cat
X-WR-TIMEZONE:Europe/Madrid
DESCRIPTION:El 28 i 29 d'abril, a la pista d'estiu del Casal Cultural

URI:https://www.castellbisbal.cat/actualitat/agenda/16142-feria-de-abril.html
CLASS:PUBLIC
END:VEVENT
END:VCALENDAR
