BEGIN:VCALENDAR
VERSION:2.0
CALSCALE:GREGORIAN
PRODID:-//Diputació de Barcelona//DibaCMS//EN
BEGIN:VEVENT
UID:16143
DTSTAMP:20260424T093631
DTSTART:20230506T100000
DTEND:20230506T100000
SUMMARY:Mercat solidari de roba
LOCATION:08755 Castellbisbal
METHOD:PUBLISH
X-WR-CALNAME:comunicacio@castellbisbal.cat
X-WR-TIMEZONE:Europe/Madrid
DESCRIPTION:A partir de les 10.00 h, a la plaça de l'Església

URI:https://www.castellbisbal.cat/actualitat/agenda/16143-mercat-solidari-de-roba.html
CLASS:PUBLIC
END:VEVENT
END:VCALENDAR
