BEGIN:VCALENDAR
VERSION:2.0
CALSCALE:GREGORIAN
PRODID:-//Diputació de Barcelona//DibaCMS//EN
BEGIN:VEVENT
UID:16144
DTSTAMP:20260424T171440
DTSTART:20230510T100000
DTEND:20230510T100000
SUMMARY:Inscripcions Juliol Màgic (presencials)
LOCATION:
METHOD:PUBLISH
X-WR-CALNAME:comunicacio@castellbisbal.cat
X-WR-TIMEZONE:Europe/Madrid
DESCRIPTION:De 8.00 a 13.30 h i de 16.30 a 19.30 hores, a l'espai Caterina Albert (antic PIJ)

URI:https://www.castellbisbal.cat/actualitat/agenda/16144-inscripcions-juliol-magic-presencials.html
CLASS:PUBLIC
END:VEVENT
END:VCALENDAR
