BEGIN:VCALENDAR
VERSION:2.0
CALSCALE:GREGORIAN
PRODID:-//Diputació de Barcelona//DibaCMS//EN
BEGIN:VEVENT
UID:16146
DTSTAMP:20260424T205155
DTSTART:20230428T190000
DTEND:20230428T190000
SUMMARY:NYS Polígon Arts: Inauguració del festival i obertura de l'exposició "Miralls de l'oblit"
LOCATION:Av. de Pau Casals, 16 08755 Castellbisbal
METHOD:PUBLISH
X-WR-CALNAME:comunicacio@castellbisbal.cat
X-WR-TIMEZONE:Europe/Madrid
DESCRIPTION:A les 19.00 h, a la sala d'exposicions d'Els Costals

URI:https://www.castellbisbal.cat/actualitat/agenda/nys-poligon-arts-inauguracio-del-festival-i-obertura-de-lexposicio-miralls-de-loblit.html
CLASS:PUBLIC
END:VEVENT
END:VCALENDAR
